BEGIN:VCALENDAR
VERSION:2.0
PRODID:-//Jordan Howard | Real Estate Agent - ECPv6.15.20//NONSGML v1.0//EN
CALSCALE:GREGORIAN
METHOD:PUBLISH
X-ORIGINAL-URL:https://jordan-howard.ca
X-WR-CALDESC:Events for Jordan Howard | Real Estate Agent
REFRESH-INTERVAL;VALUE=DURATION:PT1H
X-Robots-Tag:noindex
X-PUBLISHED-TTL:PT1H
BEGIN:VTIMEZONE
TZID:UTC
BEGIN:STANDARD
TZOFFSETFROM:+0000
TZOFFSETTO:+0000
TZNAME:UTC
DTSTART:20250101T000000
END:STANDARD
END:VTIMEZONE
BEGIN:VTIMEZONE
TZID:America/Toronto
BEGIN:DAYLIGHT
TZOFFSETFROM:-0500
TZOFFSETTO:-0400
TZNAME:EDT
DTSTART:20240310T070000
END:DAYLIGHT
BEGIN:STANDARD
TZOFFSETFROM:-0400
TZOFFSETTO:-0500
TZNAME:EST
DTSTART:20241103T060000
END:STANDARD
BEGIN:DAYLIGHT
TZOFFSETFROM:-0500
TZOFFSETTO:-0400
TZNAME:EDT
DTSTART:20250309T070000
END:DAYLIGHT
BEGIN:STANDARD
TZOFFSETFROM:-0400
TZOFFSETTO:-0500
TZNAME:EST
DTSTART:20251102T060000
END:STANDARD
BEGIN:DAYLIGHT
TZOFFSETFROM:-0500
TZOFFSETTO:-0400
TZNAME:EDT
DTSTART:20260308T070000
END:DAYLIGHT
BEGIN:STANDARD
TZOFFSETFROM:-0400
TZOFFSETTO:-0500
TZNAME:EST
DTSTART:20261101T060000
END:STANDARD
END:VTIMEZONE
BEGIN:VEVENT
DTSTART;TZID=UTC:20260317T180000
DTEND;TZID=UTC:20260317T230000
DTSTAMP:20260424T162132
CREATED:20260304T161755Z
LAST-MODIFIED:20260304T161755Z
UID:649118-1773770400-1773788400@jordan-howard.ca
SUMMARY:Whiskey & Wealth St.Paddys Day
DESCRIPTION:
URL:https://jordan-howard.ca/event/whiskey-wealth-st-paddys-day/
LOCATION:WHISKEY & WEALTH\, 476 Richmond St\, London\, Ontario\, N6A 3E6\, Canada
ORGANIZER;CN="Jordan Howard":MAILTO:jhoward@thriverealtygroup.ca
END:VEVENT
BEGIN:VEVENT
DTSTART;VALUE=DATE:20251113
DTEND;VALUE=DATE:20251114
DTSTAMP:20260424T162132
CREATED:20251016T185014Z
LAST-MODIFIED:20251016T223232Z
UID:1104-1762992000-1763078399@jordan-howard.ca
SUMMARY:WHISKEY & WEALTH
DESCRIPTION:You’re Invited to an Exclusive Evening\nThe Church KeyBistro • Pub\n3-Course Scotch Pairing Dinner\n    Tasting three different single malt scotches. \n$150 per person (taxes and gratuity) \nPayment via e-Transfer to:\n    JHOWARD@THRIVEREALTYGROUP.CA
URL:https://jordan-howard.ca/event/whiskeyandwealth/
LOCATION:WHISKEY & WEALTH\, 476 Richmond St\, London\, Ontario\, N6A 3E6\, Canada
END:VEVENT
END:VCALENDAR